BEGIN:VCALENDAR
METHOD:PUBLISH
PRODID:-//Weblication CMS
VERSION:2.0
BEGIN:VEVENT
SUMMARY:Weihnachtsmarkt Krakow am See
DTSTART:20241221T000000
DTEND:20241221T235959
DESCRIPTION:
LOCATION:
UID:https://www.treffpunkt-ostsee.de/ostsee/veranstaltungen/termine/weihnachtsmaerkte/weihnachtsmarkt-krakow-am-see.php?uid=c47085e4ad1f8feb6f3cfd2d3841fa04
URL:https://www.treffpunkt-ostsee.de/ostsee/veranstaltungen/termine/weihnachtsmaerkte/weihnachtsmarkt-krakow-am-see.php
END:VEVENT
END:VCALENDAR