BEGIN:VCALENDAR
METHOD:PUBLISH
PRODID:-//Weblication CMS
VERSION:2.0
BEGIN:VEVENT
SUMMARY:Hallen – Weihnachtsmarkt „Kerzenschein“ in Kühlungsborn
DTSTART:20251121T000000
DTEND:20251121T000000
DESCRIPTION:Wir freuen uns, alles Gästen Handgemachte und mit viel Liebe zum Detail hergestellte Dekorations- und Geschenkideen vorstellen zu können. Handgemachter Stollen, warme Mutzen, Waffeln, Kuchen, Bratwurst, sowie leckerer Glühwein und Kaffeespezialitäten laden zum Verweilen ein.  Für Kinder wird es Ballwerfen mit vielen Gewinnen und ein Tassenkarussell geben.
LOCATION:
UID:https://www.treffpunkt-ostsee.de/ostsee/veranstaltungen/termine/weihnachtsmaerkte/hallen-weihnachtsmarkt-kuehlungsborn.php?uid=c69c8f39ea3481ff37a0c8442bef1ad9
URL:https://www.treffpunkt-ostsee.de/ostsee/veranstaltungen/termine/weihnachtsmaerkte/hallen-weihnachtsmarkt-kuehlungsborn.php
END:VEVENT
BEGIN:VEVENT
SUMMARY:Hallen – Weihnachtsmarkt „Kerzenschein“ in Kühlungsborn
DTSTART:20251122T000000
DTEND:20251122T000000
DESCRIPTION:Wir freuen uns, alles Gästen Handgemachte und mit viel Liebe zum Detail hergestellte Dekorations- und Geschenkideen vorstellen zu können. Handgemachter Stollen, warme Mutzen, Waffeln, Kuchen, Bratwurst, sowie leckerer Glühwein und Kaffeespezialitäten laden zum Verweilen ein.  Für Kinder wird es Ballwerfen mit vielen Gewinnen und ein Tassenkarussell geben.
LOCATION:
UID:https://www.treffpunkt-ostsee.de/ostsee/veranstaltungen/termine/weihnachtsmaerkte/hallen-weihnachtsmarkt-kuehlungsborn.php?uid=625087149e1859cb4505f4ea3dd34441
URL:https://www.treffpunkt-ostsee.de/ostsee/veranstaltungen/termine/weihnachtsmaerkte/hallen-weihnachtsmarkt-kuehlungsborn.php
END:VEVENT
END:VCALENDAR