BEGIN:VCALENDAR
METHOD:PUBLISH
PRODID:-//Weblication CMS
VERSION:2.0
BEGIN:VEVENT
SUMMARY:Ostermarkt in Karlshagen
DTSTART:20260405T110000
DTEND:20260405T220000
DESCRIPTION:Am Ostersonntag startet das karottenstarke Osterfest, das Familienherzen höherschlagen lässt.
LOCATION:
UID:https://www.treffpunkt-ostsee.de/ostsee/veranstaltungen/termine/ostermaerkte/ostermarkt-karlshagen.php?uid=b124f34a5fbe675e29d96ed94d8ae3c9
URL:https://www.treffpunkt-ostsee.de/ostsee/veranstaltungen/termine/ostermaerkte/ostermarkt-karlshagen.php
END:VEVENT
END:VCALENDAR