BEGIN:VCALENDAR
METHOD:PUBLISH
PRODID:-//Weblication CMS
VERSION:2.0
BEGIN:VEVENT
SUMMARY:Ostermarkt im Klützer Stadtgarten
DTSTART:20260406T110000
DTEND:20260406T150000
DESCRIPTION:Ostermontag: Bunter Ostermarkt im Klützer Stadtgarten für die ganze Familie mit Live-Musik, Ostereiersuche, Kunsthandwerk und Köstlichkeiten
LOCATION:
UID:https://www.treffpunkt-ostsee.de/ostsee/veranstaltungen/termine/ostermaerkte/ostermarkt-im-kluetzer-stadtgarten.php?uid=cf606c0a704aac146185612be3371184
URL:https://www.treffpunkt-ostsee.de/ostsee/veranstaltungen/termine/ostermaerkte/ostermarkt-im-kluetzer-stadtgarten.php
END:VEVENT
END:VCALENDAR